BEGIN:VCALENDAR
VERSION:2.0
PRODID:-//Congregation Darchei Noam - ECPv6.15.20//NONSGML v1.0//EN
CALSCALE:GREGORIAN
METHOD:PUBLISH
X-ORIGINAL-URL:https://darcheinoam.ca
X-WR-CALDESC:Events for Congregation Darchei Noam
REFRESH-INTERVAL;VALUE=DURATION:PT1H
X-Robots-Tag:noindex
X-PUBLISHED-TTL:PT1H
BEGIN:VTIMEZONE
TZID:America/Toronto
BEGIN:DAYLIGHT
TZOFFSETFROM:-0500
TZOFFSETTO:-0400
TZNAME:EDT
DTSTART:20250309T070000
END:DAYLIGHT
BEGIN:STANDARD
TZOFFSETFROM:-0400
TZOFFSETTO:-0500
TZNAME:EST
DTSTART:20251102T060000
END:STANDARD
BEGIN:DAYLIGHT
TZOFFSETFROM:-0500
TZOFFSETTO:-0400
TZNAME:EDT
DTSTART:20260308T070000
END:DAYLIGHT
BEGIN:STANDARD
TZOFFSETFROM:-0400
TZOFFSETTO:-0500
TZNAME:EST
DTSTART:20261101T060000
END:STANDARD
BEGIN:DAYLIGHT
TZOFFSETFROM:-0500
TZOFFSETTO:-0400
TZNAME:EDT
DTSTART:20270314T070000
END:DAYLIGHT
BEGIN:STANDARD
TZOFFSETFROM:-0400
TZOFFSETTO:-0500
TZNAME:EST
DTSTART:20271107T060000
END:STANDARD
END:VTIMEZONE
BEGIN:VEVENT
DTSTART;VALUE=DATE:20260402
DTEND;VALUE=DATE:20260403
DTSTAMP:20260422T181843
CREATED:20260312T150933Z
LAST-MODIFIED:20260312T150933Z
UID:10002208-1775088000-1775174399@darcheinoam.ca
SUMMARY:Office Closed
DESCRIPTION:
URL:https://darcheinoam.ca/event/office-closed-18/
LOCATION:Ontario
ATTACH;FMTTYPE=image/png:https://darcheinoam.ca/wp-content/uploads/2026/03/Office-Closed-Friday-Thursday-April-2.png
END:VEVENT
BEGIN:VEVENT
DTSTART;TZID=America/Toronto:20260402T100000
DTEND;TZID=America/Toronto:20260402T100000
DTSTAMP:20260422T181843
CREATED:20260312T142944Z
LAST-MODIFIED:20260312T142944Z
UID:10002206-1775124000-1775124000@darcheinoam.ca
SUMMARY:Passover Service
DESCRIPTION:
URL:https://darcheinoam.ca/event/passover-service/
LOCATION:Ontario
ATTACH;FMTTYPE=image/png:https://darcheinoam.ca/wp-content/uploads/2026/03/Passover-Service-Graphic.png
END:VEVENT
BEGIN:VEVENT
DTSTART;TZID=America/Toronto:20260402T180000
DTEND;TZID=America/Toronto:20260402T180000
DTSTAMP:20260422T181843
CREATED:20260304T200110Z
LAST-MODIFIED:20260304T203033Z
UID:10002204-1775152800-1775152800@darcheinoam.ca
SUMMARY:Passover Second Night Seder
DESCRIPTION:Join us for the Darchei Noam Second Night Passover Seder on Thursday\, April 2nd at 6:00 PM. Celebrate Passover with friends\, family\, and our community in a warm\, festive evening full of story\, song\, and tradition. Tables seat 10 people\, so gather your family and friends and join together at one table. \nPricing: Children 4 & under are free\, children 5–12 are $54\, and teens and adults 13+ are $90. Please register by March 25th to reserve your spot and join us for a meaningful\, joyful\, and delicious Passover celebration. \nRegister Here\n  \n  \nWe are committed to providing accessible and inclusive events.\nIf you are interested in attending but require an accommodation to fully participate\,\nplease contact Claire Levy-Boker at claire@darcheinoam.ca
URL:https://darcheinoam.ca/event/passover-second-night-seder/
LOCATION:Congregation Darchei Noam\, 864 Sheppard Ave W.\, North York\, Ontario\, M3H 2T\, Canada
ATTACH;FMTTYPE=image/png:https://darcheinoam.ca/wp-content/uploads/2026/03/Blue-Happy-Passover-Presentation-1-scaled.png
END:VEVENT
BEGIN:VEVENT
DTSTART;VALUE=DATE:20260403
DTEND;VALUE=DATE:20260404
DTSTAMP:20260422T181843
CREATED:20260312T151049Z
LAST-MODIFIED:20260312T151049Z
UID:10002209-1775174400-1775260799@darcheinoam.ca
SUMMARY:Office Closed
DESCRIPTION:
URL:https://darcheinoam.ca/event/office-closed-19/
LOCATION:Ontario
ATTACH;FMTTYPE=image/png:https://darcheinoam.ca/wp-content/uploads/2026/03/Office-Closed-Friday-April-3.png
END:VEVENT
BEGIN:VEVENT
DTSTART;TZID=America/Toronto:20260407T130000
DTEND;TZID=America/Toronto:20260407T235900
DTSTAMP:20260422T181843
CREATED:20260312T152311Z
LAST-MODIFIED:20260312T152311Z
UID:10002213-1775566800-1775606340@darcheinoam.ca
SUMMARY:Early Office Closure
DESCRIPTION:
URL:https://darcheinoam.ca/event/early-office-closure-2/
LOCATION:Ontario
ATTACH;FMTTYPE=image/png:https://darcheinoam.ca/wp-content/uploads/2026/03/Early-office-closure-Tuesday-April-7.png
END:VEVENT
BEGIN:VEVENT
DTSTART;VALUE=DATE:20260408
DTEND;VALUE=DATE:20260409
DTSTAMP:20260422T181843
CREATED:20260312T151233Z
LAST-MODIFIED:20260312T151233Z
UID:10002210-1775606400-1775692799@darcheinoam.ca
SUMMARY:Office Closed
DESCRIPTION:
URL:https://darcheinoam.ca/event/office-closed-20/
LOCATION:Ontario
ATTACH;FMTTYPE=image/png:https://darcheinoam.ca/wp-content/uploads/2026/03/Office-Closed-Wednesday-April-8.png
END:VEVENT
BEGIN:VEVENT
DTSTART;TZID=America/Toronto:20260408T100000
DTEND;TZID=America/Toronto:20260408T100000
DTSTAMP:20260422T181843
CREATED:20260312T144656Z
LAST-MODIFIED:20260319T150726Z
UID:10002207-1775642400-1775642400@darcheinoam.ca
SUMMARY:Passover Service With Yizkor
DESCRIPTION:Passover service With Yizkor\n\n\n\nJoin us for Passover services with Yizkor on Wednesday\, April 8th at 10:00 AM. We will come together to celebrate Passover and remember our loved ones during the Yizkor prayers. Kiddush will follow. All are welcome. \nWe are committed to providing accessible and inclusive events. \nIf you are interested in attending but require an accommodation to fully participate\, \nplease contact Claire Levy-Boker at claire@darcheinoam.ca \n\n\n  \nRegister Here\n  \n 
URL:https://darcheinoam.ca/event/passover-service-with-yizkor/
LOCATION:Ontario
ATTACH;FMTTYPE=image/png:https://darcheinoam.ca/wp-content/uploads/2026/03/Passover-service-With-Yizkor.png
END:VEVENT
BEGIN:VEVENT
DTSTART;VALUE=DATE:20260409
DTEND;VALUE=DATE:20260410
DTSTAMP:20260422T181843
CREATED:20260312T151417Z
LAST-MODIFIED:20260312T151417Z
UID:10002211-1775692800-1775779199@darcheinoam.ca
SUMMARY:Office Closed
DESCRIPTION:
URL:https://darcheinoam.ca/event/office-closed-21/
LOCATION:Ontario
ATTACH;FMTTYPE=image/png:https://darcheinoam.ca/wp-content/uploads/2026/03/Office-Closed-Thursday-April-9.png
END:VEVENT
BEGIN:VEVENT
DTSTART;TZID=America/Toronto:20260414T133000
DTEND;TZID=America/Toronto:20260414T153000
DTSTAMP:20260422T181843
CREATED:20260317T212507Z
LAST-MODIFIED:20260317T214303Z
UID:10002214-1776173400-1776180600@darcheinoam.ca
SUMMARY:Pins & Needles
DESCRIPTION:Pins and Needles is reaching out to let you know that we are always very happy to welcome new members to our group. This month\, we will meet on Tuesday\, April 14\, in the shul library from 1:30 to 3:30 p.m. and on Zoom on the third Tuesday of the month (April 21). We knit\, crochet\, and socialize. We would love to have other crafters join us to showcase their work and share tips and stories. \nWe would also like to inform you that we are currently in need of yarn donations. Especially helpful are donations of blanket-weight yarn and multiple balls of the same weight or colour. If you’re doing some spring cleaning and have yarn you’re no longer using\, we’d be grateful if you’d consider donating it to us. \nPlease contact nancy@kosiner.com if you have any questions.
URL:https://darcheinoam.ca/event/pins-needles-9/
LOCATION:Congregation Darchei Noam\, 864 Sheppard Ave W.\, North York\, Ontario\, M3H 2T\, Canada
ATTACH;FMTTYPE=image/png:https://darcheinoam.ca/wp-content/uploads/2026/03/Orange-and-Purple-Playful-Sewing-Presentation.png
END:VEVENT
BEGIN:VEVENT
DTSTART;TZID=America/Toronto:20260418T100000
DTEND;TZID=America/Toronto:20260418T100000
DTSTAMP:20260422T181843
CREATED:20260312T135212Z
LAST-MODIFIED:20260312T135212Z
UID:10002205-1776506400-1776506400@darcheinoam.ca
SUMMARY:Ark Adventures
DESCRIPTION:Ark Adventures is designed for young children (ages birth to 5) and their families to experience Shabbat in community together. The program is offered on select Saturdays throughout the year. \nArk Adventures will “set sail” on April 18/ 2026\, at 10:00 A.M. \nJoin us on the ark for a Shabbat adventure! \nMember Registration \nGuest Registration 
URL:https://darcheinoam.ca/event/ark-adventures-7/
LOCATION:Ontario
ATTACH;FMTTYPE=image/png:https://darcheinoam.ca/wp-content/uploads/2025/09/A-KILU-COMPANY-PRODUCTION-2.png
END:VEVENT
BEGIN:VEVENT
DTSTART;TZID=America/Toronto:20260425T133000
DTEND;TZID=America/Toronto:20260425T133000
DTSTAMP:20260422T181843
CREATED:20260331T145125Z
LAST-MODIFIED:20260420T183924Z
UID:10002219-1777123800-1777123800@darcheinoam.ca
SUMMARY:Yom Ha'atzmaut Celebrations
DESCRIPTION:Yom Ha’atzmaut Celebration\n📅 Saturday\, April 25  📍Darchei Noam \nJoin us for a lively Yom Ha’atzmaut celebration filled with music\, dance\, and community spirit! Enjoy Israeli dancing led by our Shabbat School\, followed by Shira Betzibur with Rabbi Ryan\, featuring our Shinshiniot\, Maya and Omer\, together with our students. The day will also include a special kiddush with delicious Israeli cuisine. Come celebrate Israel’s independence with us—we look forward to sharing this joyful day together!
URL:https://darcheinoam.ca/event/yom-haatzmaut-save-the-date/
LOCATION:Ontario
ATTACH;FMTTYPE=image/png:https://darcheinoam.ca/wp-content/uploads/2026/04/yom-haatzmaut-save-the-date-2.png
END:VEVENT
BEGIN:VEVENT
DTSTART;TZID=America/Toronto:20260426T100000
DTEND;TZID=America/Toronto:20260426T150000
DTSTAMP:20260422T181843
CREATED:20260420T190225Z
LAST-MODIFIED:20260420T190343Z
UID:10002227-1777197600-1777215600@darcheinoam.ca
SUMMARY:Darchei Noam Blood Drive
DESCRIPTION:🗓️ Sunday\, April 26 ⏰ 10:00 am – 3:00 PM📍Darchei Noam \nJoin us in saving lives by donating blood! Your donation can provide life-saving blood products to patients in need within our community. Donations take only a few minutes but make an immeasurable impact—each donation can save up to three lives. We hope you’ll consider participating and helping us support this vital cause. Every donation counts and your generosity gives hope and healing to those in need. \n  \nRegister Here
URL:https://darcheinoam.ca/event/__trashed/
LOCATION:Congregation Darchei Noam\, 864 Sheppard Ave W.\, North York\, Ontario\, M3H 2T\, Canada
ATTACH;FMTTYPE=image/png:https://darcheinoam.ca/wp-content/uploads/2026/04/BLOOD-DRIVE-GRAPHIC-.png
END:VEVENT
BEGIN:VEVENT
DTSTART;TZID=America/Toronto:20260428T133000
DTEND;TZID=America/Toronto:20260428T153000
DTSTAMP:20260422T181843
CREATED:20260317T212559Z
LAST-MODIFIED:20260318T145945Z
UID:10002215-1777383000-1777390200@darcheinoam.ca
SUMMARY:Pins & Needles
DESCRIPTION:Pins and Needles is reaching out to let you know that we are always very happy to welcome new members to our group. This month\, we will meet on Tuesday\, April 14\, in the shul library from 1:30 to 3:30 p.m. and on Zoom on the third Tuesday of the month (April 21). We knit\, crochet\, and socialize. We would love to have other crafters join us to showcase their work and share tips and stories. \nWe would also like to inform you that we are currently in need of yarn donations. Especially helpful are donations of blanket-weight yarn and multiple balls of the same weight or colour. If you’re doing some spring cleaning and have yarn you’re no longer using\, we’d be grateful if you’d consider donating it to us. \nPlease contact nancy@kosiner.com if you have any questions.
URL:https://darcheinoam.ca/event/pins-needles-10/
LOCATION:Ontario
ATTACH;FMTTYPE=image/png:https://darcheinoam.ca/wp-content/uploads/2026/03/Orange-and-Purple-Playful-Sewing-Presentation.png
END:VEVENT
BEGIN:VEVENT
DTSTART;TZID=America/Toronto:20260502T130000
DTEND;TZID=America/Toronto:20260502T130000
DTSTAMP:20260422T181843
CREATED:20260420T190048Z
LAST-MODIFIED:20260420T190048Z
UID:10002226-1777726800-1777726800@darcheinoam.ca
SUMMARY:Post Kiddush: Documentary Screening: Crossing the River
DESCRIPTION:A documentary screening and talk exploring the extraordinary story of the Fink family\, Holocaust survivors who endured deportation\, liberation\, and rebuilt their lives in Canada. \n\nRegister here
URL:https://darcheinoam.ca/event/post-kiddush-documentary-screening-crossing-the-river/
LOCATION:Ontario
ATTACH;FMTTYPE=image/png:https://darcheinoam.ca/wp-content/uploads/2026/04/Documentary-Screening-Crossing-the-River-Presentation.png
END:VEVENT
BEGIN:VEVENT
DTSTART;TZID=America/Toronto:20260505T133000
DTEND;TZID=America/Toronto:20260505T153000
DTSTAMP:20260422T181843
CREATED:20260420T175826Z
LAST-MODIFIED:20260420T175826Z
UID:10002222-1777987800-1777995000@darcheinoam.ca
SUMMARY:Pins & Needles
DESCRIPTION:Pins and Needles is reaching out to let you know that we are always very happy to welcome new members to our group. This month\, we will meet on Tuesday\, May 5\, in the shul library from 1:30 to 3:30 p.m. and on Zoom on the third Tuesday of the month (May 19). We knit\, crochet\, and socialize. We would love to have other crafters join us to showcase their work and share tips and stories. \nWe would also like to inform you that we are currently in need of yarn donations. Especially helpful are donations of blanket-weight yarn and multiple balls of the same weight or colour. If you’re doing some spring cleaning and have yarn you’re no longer using\, we’d be grateful if you’d consider donating it to us. \nPlease contact nancy@kosiner.com if you have any questions.
URL:https://darcheinoam.ca/event/pins-needles-11/
LOCATION:Congregation Darchei Noam\, 864 Sheppard Ave W.\, North York\, Ontario\, M3H 2T\, Canada
ATTACH;FMTTYPE=image/png:https://darcheinoam.ca/wp-content/uploads/2026/03/Orange-and-Purple-Playful-Sewing-Presentation.png
END:VEVENT
BEGIN:VEVENT
DTSTART;TZID=America/Toronto:20260509T100000
DTEND;TZID=America/Toronto:20260509T100000
DTSTAMP:20260422T181843
CREATED:20260420T180913Z
LAST-MODIFIED:20260420T180913Z
UID:10002224-1778320800-1778320800@darcheinoam.ca
SUMMARY:Ark Adventures
DESCRIPTION:Ark Adventures is designed for young children (ages birth to 5) and their families to experience Shabbat in community together. The program is offered on select Saturdays throughout the year. \nArk Adventures will “set sail” on May 9/ 2026\, at 10:00 A.M. \nJoin us on the ark for a Shabbat adventure! \nMember Registration \nGuest Registration 
URL:https://darcheinoam.ca/event/ark-adventures-8/
LOCATION:Ontario
ATTACH;FMTTYPE=image/png:https://darcheinoam.ca/wp-content/uploads/2025/09/A-KILU-COMPANY-PRODUCTION-2.png
END:VEVENT
BEGIN:VEVENT
DTSTART;TZID=America/Toronto:20260509T130000
DTEND;TZID=America/Toronto:20260509T130000
DTSTAMP:20260422T181843
CREATED:20260331T145540Z
LAST-MODIFIED:20260331T145634Z
UID:10002220-1778331600-1778331600@darcheinoam.ca
SUMMARY:Reconstructionist Reading Group: The Religion of Ethical Nationhood
DESCRIPTION:Reconstructionist Reading Group: The Religion of Ethical Nationhood\n\n\n\nCurious about Reconstructionist Judaism\, nationhood\, and big ethical questions in an age that sometimes feels apocalyptic? Join us as we continue studying The Religion of Ethical Nationhood by Mordecai Kaplan\, in which Kaplan argues that ethical nationhood is essential for human survival and global stability. \nWe’ll meet monthly on Shabbat in the library after kiddush\, 1:00–2:00 PM. The next session is May 9. Registration is required. Digital excerpts will be provided in advance of each session.
URL:https://darcheinoam.ca/event/reconstructionist-reading-group-the-religion-of-ethical-nationhood/
LOCATION:Ontario
ATTACH;FMTTYPE=image/png:https://darcheinoam.ca/wp-content/uploads/2026/03/DN-Book-Club-2.png
END:VEVENT
BEGIN:VEVENT
DTSTART;TZID=America/Toronto:20260516T113000
DTEND;TZID=America/Toronto:20260516T113000
DTSTAMP:20260422T181843
CREATED:20260226T135832Z
LAST-MODIFIED:20260420T180500Z
UID:10002203-1778931000-1778931000@darcheinoam.ca
SUMMARY:Tot Shabbat
DESCRIPTION:Tot Shabbat! \nOn Saturday\, May 16th\, Join us as we learn together\, sing\, and enjoy a delicious Kiddush lunch!  \n🎵 11:30 AM: Tot Shabbat with fun activities and songs \n🍽 12:15 PM: Blessings and Kiddush lunch for all \nLet’s celebrate a beautiful year of singing\, playing\, and dancing together.  \nMember Registration \nGuest Registration 
URL:https://darcheinoam.ca/event/tot-shabbat-8/
LOCATION:Congregation Darchei Noam\, 864 Sheppard Ave W.\, North York\, Ontario\, M3H 2T\, Canada
ATTACH;FMTTYPE=image/jpeg:https://darcheinoam.ca/wp-content/uploads/2025/11/updated-tot-shabbat.jpg
END:VEVENT
BEGIN:VEVENT
DTSTART;TZID=America/Toronto:20260519T133000
DTEND;TZID=America/Toronto:20260519T153000
DTSTAMP:20260422T181843
CREATED:20260420T175859Z
LAST-MODIFIED:20260420T175859Z
UID:10002223-1779197400-1779204600@darcheinoam.ca
SUMMARY:Pins & Needles
DESCRIPTION:Pins and Needles is reaching out to let you know that we are always very happy to welcome new members to our group. This month\, we will meet on Tuesday\, May 5\, in the shul library from 1:30 to 3:30 p.m. and on Zoom on the third Tuesday of the month (May 19). We knit\, crochet\, and socialize. We would love to have other crafters join us to showcase their work and share tips and stories. \nWe would also like to inform you that we are currently in need of yarn donations. Especially helpful are donations of blanket-weight yarn and multiple balls of the same weight or colour. If you’re doing some spring cleaning and have yarn you’re no longer using\, we’d be grateful if you’d consider donating it to us. \nPlease contact nancy@kosiner.com if you have any questions.
URL:https://darcheinoam.ca/event/pins-needles-12/
LOCATION:Congregation Darchei Noam\, 864 Sheppard Ave W.\, North York\, Ontario\, M3H 2T\, Canada
ATTACH;FMTTYPE=image/png:https://darcheinoam.ca/wp-content/uploads/2026/03/Orange-and-Purple-Playful-Sewing-Presentation.png
END:VEVENT
BEGIN:VEVENT
DTSTART;TZID=America/Toronto:20260523T100000
DTEND;TZID=America/Toronto:20260523T100000
DTSTAMP:20260422T181843
CREATED:20251219T174106Z
LAST-MODIFIED:20260323T162046Z
UID:10002173-1779530400-1779530400@darcheinoam.ca
SUMMARY:Shabbat Service\, Kiddush Lunch & Community Learning
DESCRIPTION:DON’T MISS OUT! BE PART OF THE TRIBUTE: A Special Weekend Honouring Rabbi Tina on May 23rd and 24th!   \nSpace is limited – register NOW!\n\nShabbat Service\nChai Tea
URL:https://darcheinoam.ca/event/rabbi-tina-celebration/
LOCATION:Congregation Darchei Noam\, 864 Sheppard Ave W.\, North York\, Ontario\, M3H 2T\, Canada
ATTACH;FMTTYPE=image/png:https://darcheinoam.ca/wp-content/uploads/2025/12/Rabbi-tina-tribute-banner-2.png
END:VEVENT
BEGIN:VEVENT
DTSTART;TZID=America/Toronto:20260524T140000
DTEND;TZID=America/Toronto:20260524T140000
DTSTAMP:20260422T181843
CREATED:20260323T162002Z
LAST-MODIFIED:20260323T162150Z
UID:10002217-1779631200-1779631200@darcheinoam.ca
SUMMARY:HIGH TEA — A Celebration of Rabbinic Leadership and Legacy
DESCRIPTION:DON’T MISS OUT! BE PART OF THE TRIBUTE: A Special Weekend Honouring Rabbi Tina on May 23rd and 24th!   \nSpace is limited – register NOW!\n\nShabbat Service\nChai Tea
URL:https://darcheinoam.ca/event/chai-tea/
LOCATION:Ontario
ATTACH;FMTTYPE=image/png:https://darcheinoam.ca/wp-content/uploads/2025/12/Rabbi-tina-tribute-banner-2.png
END:VEVENT
BEGIN:VEVENT
DTSTART;TZID=America/Toronto:20260606T100000
DTEND;TZID=America/Toronto:20260606T100000
DTSTAMP:20260422T181843
CREATED:20260420T183844Z
LAST-MODIFIED:20260420T183844Z
UID:10002225-1780740000-1780740000@darcheinoam.ca
SUMMARY:Shabbat Morning Service & Kiddush
DESCRIPTION:Join us for a Shabbat morning unlike any other\, as we welcome Rabbi Shefa Gold into the heart of our community’s weekly gathering. \nServices begin at 10:00 AM. We encourage you to arrive a little early\, so we can gently settle in and co-create the spiritual container together. Please register in advance\, and if you’re able\, consider contributing toward the cost of the event. \nCongregation Darchei Noam is Toronto’s only Reconstructionist synagogue\, and our Shabbat morning services are built on the same foundations that animate Shefa’s work: sacred sound\, embodied prayer\, and the conviction that spiritual practice is meant to crack us open rather than close us down. We pray from Kol Haneshamah\, the Reconstructionist siddur\, with joyful singing accompanied by instruments\, moments of genuine contemplative stillness\, and a d’var Torah rooted in honest engagement with our tradition. \nShefa’s presence will weave through our morning\, bringing the transformative power of Hebrew chant into a living\, breathing community at worship. Whether you are a longtime chanter or brand new to this practice\, whether you have davened every Shabbat of your life or this is your first time in a synagogue in years\, you will find a place here. \nStay after the service for our communal Kiddush lunch\, where the conversation\, the connection\, and the singing tend to continue well past noon. \nThe service will also be available via Zoom for those joining from a distance. \nLocation: Darchei Noam\, 864 Sheppard Avenue West \nRegister Here
URL:https://darcheinoam.ca/event/shabbat-morning-service-kiddush/
LOCATION:Ontario
ATTACH;FMTTYPE=image/webp:https://darcheinoam.ca/wp-content/uploads/2026/04/Toronto-Chanting-Retreat-with-Rabbi-Shefa-Gold.webp
END:VEVENT
BEGIN:VEVENT
DTSTART;TZID=America/Toronto:20260617T190000
DTEND;TZID=America/Toronto:20260617T190000
DTSTAMP:20260422T181843
CREATED:20260331T144925Z
LAST-MODIFIED:20260331T144925Z
UID:10002218-1781722800-1781722800@darcheinoam.ca
SUMMARY:AGM save the date
DESCRIPTION:
URL:https://darcheinoam.ca/event/agm-save-the-date/
LOCATION:Ontario
ATTACH;FMTTYPE=image/png:https://darcheinoam.ca/wp-content/uploads/2026/03/Annual-General-Meeting-Save-the-date-2026-graphic-1.png
END:VEVENT
END:VCALENDAR